BEGIN:VCALENDAR
VERSION:2.0
PRODID:-//Museum of Ventura County - ECPv6.9.0//NONSGML v1.0//EN
CALSCALE:GREGORIAN
METHOD:PUBLISH
X-ORIGINAL-URL:https://venturamuseum.org
X-WR-CALDESC:Events for Museum of Ventura County
REFRESH-INTERVAL;VALUE=DURATION:PT1H
X-Robots-Tag:noindex
X-PUBLISHED-TTL:PT1H
BEGIN:VTIMEZONE
TZID:America/Los_Angeles
BEGIN:DAYLIGHT
TZOFFSETFROM:-0800
TZOFFSETTO:-0700
TZNAME:PDT
DTSTART:20210314T100000
END:DAYLIGHT
BEGIN:STANDARD
TZOFFSETFROM:-0700
TZOFFSETTO:-0800
TZNAME:PST
DTSTART:20211107T090000
END:STANDARD
END:VTIMEZONE
BEGIN:VEVENT
DTSTART;TZID=America/Los_Angeles:20210619T110000
DTEND;TZID=America/Los_Angeles:20210619T140000
DTSTAMP:20260421T121727
CREATED:20210607T223913Z
LAST-MODIFIED:20210609T215415Z
UID:22839-1624100400-1624111200@venturamuseum.org
SUMMARY:Boroughs Children’s Garden Celebration
DESCRIPTION:Join us in the Boroughs Children’s Garden at the Museum of Ventura County on Saturday\, June 19th from 11am—2pm to celebrate local artist MB Hanrahan’s new Chumash Village mural. Admission is free! \nThere will be live music\, hands-on activities for the entire family\, and much more\, including storytelling\, a live drum performance\, rock stacking demonstrations and hands-on participation\, archaeological dig simulation\, and a presentation of Chumash Traditions by Chumash Elder Julie Tumamait-Stensile. Plus\, visitors will have the opportunity to meet artist MB Hanrahan! \nThe refreshed Boroughs Children’s Garden is full of hands-on activities\, including the Garden of Sound\, where numerous instruments from guitars to a piano are at the hands of visitors\, an Archaeology Dig Site with sifting and digging tools\, and plenty of other games for all to enjoy. \nBring the entire family out to the museum! \nThe Howard and Evelyn Boroughs Children’s Garden\nis made possible by the generous support of: \nHoward and Evelyn Boroughs \nThe Charles D. and Mary A. Bauer Foundation \nBarbara Meister
URL:https://venturamuseum.org/event/boroughs-childrens-garden-celebration/
LOCATION:The Museum of Ventura County\, 100 E Main Street\, Ventura\, CA\, 93001\, United States
CATEGORIES:@ the MVC
ATTACH;FMTTYPE=image/jpeg:https://venturamuseum.org/wp-content/uploads/2021/06/06-19-2021-Boroughs-Children-Garden-Celebration.jpg
END:VEVENT
BEGIN:VEVENT
DTSTART;TZID=America/Los_Angeles:20210617T160000
DTEND;TZID=America/Los_Angeles:20210617T170000
DTSTAMP:20260421T121727
CREATED:20210607T215251Z
LAST-MODIFIED:20210607T215345Z
UID:22822-1623945600-1623949200@venturamuseum.org
SUMMARY:Mindfulness @ the Museum: Yoga
DESCRIPTION:Join us at the museums for Mindfulness at the Museum\, new weekly free wellness classes outside in the gardens at the Museum of Ventura County and the Agriculture Museum in Santa Paula. \nYou can participate at the Museum of Ventura County (100 E. Main St.\, Ventura) on Thursdays from 4—5pm and at the Agriculture Museum (926 Railroad Ave.\, Santa Paula) on Saturdays from 10—11am in Santa Paula. \nThese classes provide fun and free activities for individuals and families. Beginners are encouraged to participate. All classes are free. Classes are limited and registration is required. MVC Members will have the opportunity to register first. Consider becoming an MVC Member today! \nRegister to join us for Yoga with Liz Little on Thursday\, June 17 @ 4PM at the Museum of Ventura County. All-Levels class that helps build strength and mobility in the joints\, cultivate an increased sense of body awareness\, and progressively open the body as you are guided through a strategically designed sequence that leads to a peak pose. Led with thoughtful cues and a mindful pace\, this practice will deepen your connection with the classical asanas (postures) of yoga so you can reap their magnificent benefits. Props are welcome and modifications will be provided. \nPlease bring a mat\, water\, and any other props you may need for your practice. \nLiz Little is a Certified Yoga Instructor through YogaWorks with over 750 hours of training under Master Teachers Jennifer Elliott\, Joan Hyman\, and Judith Hansen Lasater. She has an MBA and BS in Exercise Science from The Ohio State University\, and is a Master Health and Wellness Coach trained by The Dr. Sears Wellness Institute. \nMindfulness at the Museum brought to you in part by the generous support of
URL:https://venturamuseum.org/event/mindfulness-the-museum-yoga/
LOCATION:The Museum of Ventura County\, 100 E Main Street\, Ventura\, CA\, 93001\, United States
CATEGORIES:@ the MVC
ATTACH;FMTTYPE=image/jpeg:https://venturamuseum.org/wp-content/uploads/2021/06/06-17-2021-Yoga-at-MVC.jpg
END:VEVENT
BEGIN:VEVENT
DTSTART;TZID=America/Los_Angeles:20210612T150000
DTEND;TZID=America/Los_Angeles:20210612T170000
DTSTAMP:20260421T121727
CREATED:20210520T211139Z
LAST-MODIFIED:20210520T214632Z
UID:22753-1623510000-1623517200@venturamuseum.org
SUMMARY:“The Weed Project” Opening Reception
DESCRIPTION:Join us in the Martin V. & Martha K. Smith Pavilion at the Museum of Ventura County on Saturday\, June 12\, 2021 from 3—5PM for the opening reception of The Weed Project: Outlaws of the Super Bloom & Crimes We Commit in the Garden. This new exhibit by the comical and brave Charlene Spiller features thirteen botanical paintings with an ecological message. There will be refreshments and a no-host bar. Visitors will also be able to explore the new and refreshed Children’s Garden. Admission is free with registration. \nIn the macro-style paintings of The Weed Project\, Charlene Spiller draws a plumb line between art and science. She creates a new category of “bloom”\, challenging the viewer’s expectation of what constitutes beauty. All the while\, pollinating their mind with provocative thoughts about our health\, the health of our planet\, and the bottom-line of a multibillion-dollar corporation – with a multibillion-dollar legal-relief reserve – and places it all under our microscope. Deputy Director\, Denise Sindelar states\, “Ms. Spiller’s paintings highlight the beauty that exists in our fragile\, and often forgotten natural world”. \nThroughout the recent pandemic\, and our governor’s Stay-Well-At-Home Order\, Spiller has transferred to canvas a destructive environmental discovery\, healing perspectives\, and reasons to continue on\, with vigilance – literally healing herself out of hospice care and advancing steadily toward wellness. Spiller says\, “Herbicides are a dangerous game. Roundup\, which came into being in the 1970s – first used as a chemical cleaner for pipes – is now sprayed on our food crops\, almost un-checked. The Weed Project is one of providing awareness.” \nOriginally from San Francisco\, Ms. Spiller studied at the California College of the Arts\, Oakland\, and the San Francisco Art Institute. She has lived in Southern California for 25-years\, previously in the Palm Desert\, and now\, in the Hollywood Beach-area of Oxnard\, where the beach meets the fields (or the ocean meets the glyphosate). \nThe Weeds Project: “Outlaws of the Super Bloom & Crimes We Commit in the Garden” will surprise Museum visitors with its vivid lines\, vibrant palette\, pollinating parts aplenty\, and facts that just may save our lives.
URL:https://venturamuseum.org/event/the-weed-project-opening-reception/
LOCATION:The Museum of Ventura County\, 100 E Main Street\, Ventura\, CA\, 93001\, United States
CATEGORIES:@ the MVC
ATTACH;FMTTYPE=image/jpeg:https://venturamuseum.org/wp-content/uploads/2021/05/Weed-Project-Key-Image.jpg
END:VEVENT
BEGIN:VEVENT
DTSTART;TZID=America/Los_Angeles:20210502T100000
DTEND;TZID=America/Los_Angeles:20210502T120000
DTSTAMP:20260421T121727
CREATED:20210421T195145Z
LAST-MODIFIED:20210421T195145Z
UID:22518-1619949600-1619956800@venturamuseum.org
SUMMARY:Grab & Go Bags “Small Footprints” at MVC
DESCRIPTION:Join us on Sunday\, May 2\, 2021 at 10AM for the “Small Footprints” Grab & Go Bags drive-thru giveaway! Discover creative ways to help protect our planet by using the 3Rs: Reducing\, Reusing\, and Recycling. Each fun-filled bag contains Small Footprints: Mateo Learns About the 3Rs storybook\, Small Footprints: Activity and Coloring booklet\, Paper Populous Garbage Truck Favor Box Craft\, Food Forward’s Get Crafty with Your Food Waste Recipes\, Play-Well TEKnologies wrist band\, Compost Circle of Life\, Composting at Home!\, and so much more. \nPick up your bag and discover how you can enter to win a LEGO Play-Well TEKnologies Summer Camp Scholarship at either museum location! \nDrive Thru Instructions: Museum’s Northwest parking lot. Suggested entry from E. Santa Clara Street. \nMasks\, sanitation stations\, and social distancing will be observed. \nGrab & Go Bags are brought to you in part by the generous support of EJ Harrison & Sons.
URL:https://venturamuseum.org/event/grab-go-bags-small-footprints-at-mvc/
LOCATION:The Museum of Ventura County\, 100 E Main Street\, Ventura\, CA\, 93001\, United States
ATTACH;FMTTYPE=image/jpeg:https://venturamuseum.org/wp-content/uploads/2021/04/05-02-2021-Grab-Go-Bags-MVC.jpg
END:VEVENT
END:VCALENDAR