BEGIN:VCALENDAR
VERSION:2.0
PRODID:-//Museum of Ventura County - ECPv6.9.0//NONSGML v1.0//EN
CALSCALE:GREGORIAN
METHOD:PUBLISH
X-ORIGINAL-URL:https://venturamuseum.org
X-WR-CALDESC:Events for Museum of Ventura County
REFRESH-INTERVAL;VALUE=DURATION:PT1H
X-Robots-Tag:noindex
X-PUBLISHED-TTL:PT1H
BEGIN:VTIMEZONE
TZID:America/Los_Angeles
BEGIN:DAYLIGHT
TZOFFSETFROM:-0800
TZOFFSETTO:-0700
TZNAME:PDT
DTSTART:20220313T100000
END:DAYLIGHT
BEGIN:STANDARD
TZOFFSETFROM:-0700
TZOFFSETTO:-0800
TZNAME:PST
DTSTART:20221106T090000
END:STANDARD
BEGIN:DAYLIGHT
TZOFFSETFROM:-0800
TZOFFSETTO:-0700
TZNAME:PDT
DTSTART:20230312T100000
END:DAYLIGHT
BEGIN:STANDARD
TZOFFSETFROM:-0700
TZOFFSETTO:-0800
TZNAME:PST
DTSTART:20231105T090000
END:STANDARD
BEGIN:DAYLIGHT
TZOFFSETFROM:-0800
TZOFFSETTO:-0700
TZNAME:PDT
DTSTART:20240310T100000
END:DAYLIGHT
BEGIN:STANDARD
TZOFFSETFROM:-0700
TZOFFSETTO:-0800
TZNAME:PST
DTSTART:20241103T090000
END:STANDARD
END:VTIMEZONE
BEGIN:VEVENT
DTSTART;TZID=America/Los_Angeles:20240125T183000
DTEND;TZID=America/Los_Angeles:20240125T200000
DTSTAMP:20260421T132247
CREATED:20231215T193938Z
LAST-MODIFIED:20240101T155928Z
UID:27964-1706207400-1706212800@venturamuseum.org
SUMMARY:Ivor Davis: UP Close and Personal with The Beatles
DESCRIPTION:Three hundred years after the American Revolution Britain finally got revenge. Sixty years ago this year\, four funny looking lads with mop top haircuts from Liverpool\, England—named John\, Paul George and Ringo\, invaded the USA—and conquered the nation! Amidst oceans of tears and ear-blasting screams—but surprisingly no blood—they re-wrote Rock and Roll History. \nVentura County author and journalist Ivor Davis had a front row\, eyewitness seat as this amazing Revolution unfolded in all its gory detail. \nHe travelled with them\, ate with them\, drank with them\, and reveals the behind-the-scenes story of what unfolded from sea to shining sea in his 60th anniversary “Beatles and Me on Tour” book. It contains never before told tales of the conquering Beatles who are still worshipped in the USA—and even Ventura County! \nThe Beatles and their families are beloved millionaires\, and astonishingly they are still turning out hit records! \nDavis will be at the Museum of Ventura County January 25\, 2024 from 6:30 to 8:00 pm to reveal the blood\, sweat\, tears\, screams and inside stories of how it happened. And answer all the questions about the Fab Four—that you were afraid to ask! \n“Davis serves up the stories behind the stories as only an insider can\,” said the prestigious Publisher’s Weekly. \nGet Your Tickets Here \nRegistration:\nFree for Members\nNon-Member In-Person: $10\nNon-Member Zoom: $5 \ndoors open at 6 pm for refreshments
URL:https://venturamuseum.org/event/ivor-davis-up-close-and-personal-with-the-beatles/
LOCATION:The Museum of Ventura County & Zoom\, 100 E Main Street\, Ventura\, 93001
CATEGORIES:@ the MVC & Zoom
ATTACH;FMTTYPE=image/jpeg:https://venturamuseum.org/wp-content/uploads/2023/12/Ivor-Davis-socialmedia.jpg
END:VEVENT
BEGIN:VEVENT
DTSTART;TZID=America/Los_Angeles:20230325T183000
DTEND;TZID=America/Los_Angeles:20230325T200000
DTSTAMP:20260421T132247
CREATED:20230228T002232Z
LAST-MODIFIED:20230324T211711Z
UID:26608-1679769000-1679774400@venturamuseum.org
SUMMARY:Ivor Davis: Up Close and Personal with Malcom McDowell
DESCRIPTION:Join us at the Museum of Ventura County on Saturday\, March 25\, 2023 @ 6:30PM—8PM for the next installment of Ivor Davis: Up Close & Personal. Returning\, this time in-person\, is legendary actor and raconteur extraordinaire Malcolm McDowell\, winner of Ojai Film Festival’s Lifetime Achievement Award. \nMcDowell’s impressive career puts him in the pantheon of the all-time great British-born actors from Laurence Olivier to Michael Caine to Anthony Hopkins. McDowell’s dazzling career has spanned more than 50 years\, where he has starred in scores of movies\, including Stanley Kubrick’s iconic “Clockwork Orange\,” Lindsay Anderson’s “O Lucky Man!\,” “Caligula\,” “Bombshell\,” “Time After Time\,” and “The Artist.” His vast television credits include “Entourage\,” the animated series “South Park” and “Mozart in the Jungle.” \nMVC Members can attend in-person or tune-in on Zoom for free. Non-Members can purchase in-person tickets for $10 or $5 for Zoom tickets. \nTo register\, please use one of the links below: \nMVC Member In-Person Tickets\nMVC Member Zoom Tickets\nNon-Member Zoom Tickets\nNon-Member In-Person Tickets  \n \nThis event is possible because of a generous sponsorship from
URL:https://venturamuseum.org/event/ivor-davis-up-close-and-personal-with-malcom-mcdowell/
LOCATION:The Museum of Ventura County & Zoom\, 100 E Main Street\, Ventura\, 93001
CATEGORIES:@ the MVC & Zoom
ATTACH;FMTTYPE=image/jpeg:https://venturamuseum.org/wp-content/uploads/2023/02/03-25-2023-Ivor-Davis-and-Malcolm-McDowell.jpg
END:VEVENT
BEGIN:VEVENT
DTSTART;TZID=America/Los_Angeles:20221103T183000
DTEND;TZID=America/Los_Angeles:20221103T200000
DTSTAMP:20260421T132247
CREATED:20220916T214241Z
LAST-MODIFIED:20221027T164943Z
UID:26015-1667500200-1667505600@venturamuseum.org
SUMMARY:Ivor Davis: Up Close and Personal with Joe Sohm
DESCRIPTION:Joe Sohm joins host Ivor Davis for a discussion of his work as one of the nation’s preeminent political photographers. Sohm’s award-winning photographs have been featured in The New York Times\, Wall Street Journal\, Washington Post\, National Geographic\, and Time Magazine as well as on news outlets such as MSNBC\, CNN\, ABC\, and PBS. This discussion will offer guests the opportunity to hear the insights of two journalists who have covered some of the most pivotal political moments of the last 50 years. \nDoors open at 6pm \nIn-Person Members may attend for free. \nNon Members In- Person Fee: $10 \nNon Member Zoom Fee: $5 \nMuseum members who register for this event (either in person OR via Zoom) will be entered into a drawing to receive an autographed copy of Joe Sohm’s Visions of America: Photographing Democracy. Become a member now and register for this event for your opportunity to receive the autographed book. \n\n\n\n	\n\n\n	\n\n\n	\n\n\n	\n\n\n	\n\n\n	\n\n\n	\n\n\n	\n\n\n	\n\n\n\n\n  \nIn-Person Member RSVP \nZoom Member RSVP \nIn-Person Non-Member RSVP \nZoom Non-Member RSVP \n 
URL:https://venturamuseum.org/event/ivor-davis-up-close-and-personal-with-joe-sohm/
LOCATION:The Museum of Ventura County & Zoom\, 100 E Main Street\, Ventura\, 93001
CATEGORIES:@ the MVC & Zoom
ATTACH;FMTTYPE=image/jpeg:https://venturamuseum.org/wp-content/uploads/2022/09/Joseph-Sohm-Photography-2-1.jpg
END:VEVENT
BEGIN:VEVENT
DTSTART;TZID=America/Los_Angeles:20220630T183000
DTEND;TZID=America/Los_Angeles:20220630T200000
DTSTAMP:20260421T132247
CREATED:20220524T043417Z
LAST-MODIFIED:20220627T132452Z
UID:25479-1656613800-1656619200@venturamuseum.org
SUMMARY:Ivor Davis: Up Close and Personal with Steve Binder
DESCRIPTION:Steve Binder is paramount in the history of music on television\, as one of the founding creative minds behind music programs with racially and ethnically diverse casts\, showcasing a variety of musical styles. He is arguably best known as the director of the T.A.M.I. Show\, Elvis Presley’s ’68 Comeback Special\, Diana Ross Live in Central Park\, and The Star Wars Holiday Special. He worked directly with the biggest names in show business; Elvis\, Liza Minnelli\, Chevy Chase\, Patti LaBelle\, Barry Manilow\, Pee-Wee Herman\, Steve Allen\, Soupy Sales\, Wayne Newton\, Mac Davis\, Petula Clark\, and John Denver. Most recently\, Steve Binder is portrayed by Dacre Montgomery\, breakout star of Stranger Things\, in the Elvis drama directed by Baz Luhrmann\, theatrically released June 24th\, 2022. \nThe Museum of Ventura County is thrilled to present the next installment of Ivor Davis: Up Close and Personal with decorated producer and director Steve Binder. In this series\, author\, journalist\, and investigative reporter Ivor Davis speaks with a rotating guest list of notable and celebrated Ventura County residents\, which have including Chris Hillman\, Malcom McDowell\, Miriam Arichea\, and more. \nThis is a ticketed in-person and virtual program. Free for members\, $10 for non-members in-person\, $5 for non-members on Zoom. Museum members who register for this event (either in person OR via Zoom) will be entered into a drawing to receive an autographed copy of Steve Binder’s Elvis ’68 Comeback: The Story Behind the Special\, Foreword by Baz Luhrmann. Become a member now and register for this event for your opportunity to receive the autographed book. \nFree for members\,\n$10 for non-members in-person\,\nand $5 for non-members on Zoom \nMember In-Person RSVP \nMember Zoom RSVP \nNon-Member In-Person \nNon-Member Zoom
URL:https://venturamuseum.org/event/ivor-davis-up-close-and-personal-with-steve-binder/
LOCATION:The Museum of Ventura County & Zoom\, 100 E Main Street\, Ventura\, 93001
CATEGORIES:@ the MVC & Zoom
ATTACH;FMTTYPE=image/jpeg:https://venturamuseum.org/wp-content/uploads/2022/05/Ivor-Davis-with-Steve-Binder.jpg
END:VEVENT
BEGIN:VEVENT
DTSTART;TZID=America/Los_Angeles:20220428T183000
DTEND;TZID=America/Los_Angeles:20220428T200000
DTSTAMP:20260421T132247
CREATED:20220329T185522Z
LAST-MODIFIED:20220408T152005Z
UID:24922-1651170600-1651176000@venturamuseum.org
SUMMARY:Ivor Davis: Up Close and Personal with Bob Eubanks
DESCRIPTION:Many recognize Bob Eubanks as a TV personality and game show host\, best known for hosting the explosively popular “The Newlywed Game.” In this fun evening\, you will learn so much more about Bob\, including the little-known story of how meeting the Beatles helped launch his career\, and all the twists and turns that recently earned him a Lifetime Achievement Emmy Award. \nWhat you may not know is that in 1964 Bob Eubanks was a bright-eyed and increasingly popular DJ in Southern California when the opportunity of a lifetime popped up. Did he want to be the concert promotor at the legendary Hollywood Bowl to present a hot new group from Liverpool who were about to embark on their first tour of America?  You bet he did! But there was one big problem: they demanded a huge chunk of upfront money to clinch the deal–and Eubanks didn’t have that kind of cash. So he gambled. He persuaded a bank to get a massive loan on his home to promote a rock group from England no one had ever seen live! He did it\, and the rest is history. The rock group was the Beatles–and Eubanks –like the Beatles became a legend in his own right! \nIn this live event\, Bob Eubanks will reveal all; how he became a legend in his own right\, his charmed life and career\, and how meeting The Beatles helped make it all possible. \nProof of vaccination will be required on arrival for in-person attendees over 12 years of age. Masks will not be required for this event. If you would like a mask\, we’re happy to provide one for you. \nMember In-Person RSVP \nMember Zoom RSVP \nNon-Member In-Person \nNon-Member Zoom
URL:https://venturamuseum.org/event/up-close-and-personal-with-bob-eubanks/
LOCATION:The Museum of Ventura County & Zoom\, 100 E Main Street\, Ventura\, 93001
CATEGORIES:@ the MVC & Zoom
ATTACH;FMTTYPE=image/jpeg:https://venturamuseum.org/wp-content/uploads/2022/03/Ivor-Davis-Up-Close-and-Personal-with-Bob-Eubanks.jpg
END:VEVENT
BEGIN:VEVENT
DTSTART;TZID=America/Los_Angeles:20220224T180000
DTEND;TZID=America/Los_Angeles:20220224T200000
DTSTAMP:20260421T132247
CREATED:20220211T175634Z
LAST-MODIFIED:20220224T211425Z
UID:24621-1645725600-1645732800@venturamuseum.org
SUMMARY:Ivor Davis: Up Close and Personal with Harry Benson
DESCRIPTION:DOORS AT 6:00PM\nPROGRAM AT 6:30PM \nThe Museum of Ventura County is thrilled to present the next Ivor Davis: Up Close and Personal with famous photographer Harry Benson. In this popular series\, author\, journalist\, and investigative reporter Ivor Davis speaks with a rotating guest list of extraordinary individuals. \n\nWatch trailer for the documentary “Harry Benson: Shoot First” now available on Hulu \nHarry Benson has been featured in LIFE\, Vanity Fair\, Vogue\, Time Magazine\, and many more. He’s had 40 solo exhibits\, including at The Smithsonian National Portrait Gallery. He’s photographed every US President from President Eisenhower to President Biden. He marched with Dr. Martin Luther King Jr.; was next to Senator Robert Kennedy when he was assassinated; and photographed the Berlin Wall going up and down. \nHarry Benson has photographed Queen Elizabeth II\, Sir Winston Churchill\, Princess Diana\, Muhammed Ali\, Jacqueline Kennedy\, The Shah of Iran\, Amy Winehouse\, Andy Warhol\, Elizabeth Taylor\, Francis Bacon\, Jack Nicholson\, Truman Capote\, Michael Jackson\, Dolly Parton\, Frank Sinatra\, Kate Moss\, The Beatles\, and The Rolling Stones. \nAuthor of 18 books of photography\, Benson’s 18th book\,”Paul McCartney\, published by TASCHEN in 2021\, will be reprinted in the spring of 2022. \nProof of vaccination will be required on arrival for in-person attendees. Masks will not be required for this event. If you would like a mask\, we’re happy to provide one for you. \nMuseum members who register for this event (either in person or via Zoom) will be entered into a drawing to receive an autographed copy of Harry Benson’s “Harry Benson: Persons of Interest“. Become a member now and register for this event for your opportunity to receive the autographed book. \nMember In-Person RSVP \nMember Zoom RSVP \nNon-Member In-Person RSVP \nNon-Member Zoom RSVP \n  \nBrought to you in part by the generous support of\nRobert Suskind\, M.D. and Leslie Lewinter-Suskind
URL:https://venturamuseum.org/event/ivor-davis-up-close-and-personal-with-harry-benson/
LOCATION:The Museum of Ventura County & Zoom\, 100 E Main Street\, Ventura\, 93001
CATEGORIES:@ the MVC & Zoom
ATTACH;FMTTYPE=image/jpeg:https://venturamuseum.org/wp-content/uploads/2022/02/Ivor-Davis-Up-Close-and-Personal-with-Harry-Benson.jpg
END:VEVENT
END:VCALENDAR