BEGIN:VCALENDAR
VERSION:2.0
PRODID:-//Museum of Ventura County - ECPv6.9.0//NONSGML v1.0//EN
CALSCALE:GREGORIAN
METHOD:PUBLISH
X-ORIGINAL-URL:https://venturamuseum.org
X-WR-CALDESC:Events for Museum of Ventura County
REFRESH-INTERVAL;VALUE=DURATION:PT1H
X-Robots-Tag:noindex
X-PUBLISHED-TTL:PT1H
BEGIN:VTIMEZONE
TZID:America/Los_Angeles
BEGIN:DAYLIGHT
TZOFFSETFROM:-0800
TZOFFSETTO:-0700
TZNAME:PDT
DTSTART:20230312T100000
END:DAYLIGHT
BEGIN:STANDARD
TZOFFSETFROM:-0700
TZOFFSETTO:-0800
TZNAME:PST
DTSTART:20231105T090000
END:STANDARD
BEGIN:DAYLIGHT
TZOFFSETFROM:-0800
TZOFFSETTO:-0700
TZNAME:PDT
DTSTART:20240310T100000
END:DAYLIGHT
BEGIN:STANDARD
TZOFFSETFROM:-0700
TZOFFSETTO:-0800
TZNAME:PST
DTSTART:20241103T090000
END:STANDARD
BEGIN:DAYLIGHT
TZOFFSETFROM:-0800
TZOFFSETTO:-0700
TZNAME:PDT
DTSTART:20250309T100000
END:DAYLIGHT
BEGIN:STANDARD
TZOFFSETFROM:-0700
TZOFFSETTO:-0800
TZNAME:PST
DTSTART:20251102T090000
END:STANDARD
END:VTIMEZONE
BEGIN:VEVENT
DTSTART;TZID=America/Los_Angeles:20251011T140000
DTEND;TZID=America/Los_Angeles:20251011T153000
DTSTAMP:20260421T115944
CREATED:20250915T231305Z
LAST-MODIFIED:20250929T173633Z
UID:29889-1760191200-1760196600@venturamuseum.org
SUMMARY:One County\, One Book – Author Talk
DESCRIPTION:FREE EVENT!\nJoin us for the finale of the Ventura County Library 2025 One County\, One Book program! \nCelebrate a season of community reading with a special appearance by author and journalist Michael Finkel\, who will discuss his book\, The Art Thief: A True Story of Love\, Crime\, and a Dangerous Obsession. \nThe author talk will take place in the Pavilion at the Museum of Ventura County. Don’t miss this unique opportunity to hear directly from the author of The Art Thief and be part of a county-wide literary celebration! \nThe event is free\, open to everyone\, and no reservations are required. \nRead the first chapter \nCourtesy of the author.
URL:https://venturamuseum.org/event/one-county-one-book-author-talk/
LOCATION:Museum of Ventura County Pavilion\, 100 E Main St\, Ventura\, CA\, 93001\, United States
CATEGORIES:@ the MVC
ATTACH;FMTTYPE=image/jpeg:https://venturamuseum.org/wp-content/uploads/2025/09/2025.10.11_OCOB_Social_Square.jpg
END:VEVENT
BEGIN:VEVENT
DTSTART;TZID=America/Los_Angeles:20250615T140000
DTEND;TZID=America/Los_Angeles:20250615T190000
DTSTAMP:20260421T115944
CREATED:20250416T181500Z
LAST-MODIFIED:20250416T181500Z
UID:29425-1749996000-1750014000@venturamuseum.org
SUMMARY:The Appliance Department—New Art City Theatre: Festival 25—A “New Works” playwright’s festival
DESCRIPTION:At Boynton’s department store\, Robotic Companions (RCs) Ruby and Charlie want nothing more than to be purchased by a human family and brought to their “forever post.” But as Ruby and Charlie wait patiently\, Violet arrives at the store\, a brand-new 6th generation RC. Violet knows things that Ruby and Charlie don’t\, fueling deep uncertainty about their fate along with a newfound desire for freedom. \nNew Art City Theatre\, Ventura’s newest professional theatre company\, presents their second annual festival of new works\, Festival ’25\, in the Martin V. And Martha K Smith Pavillion. Watch as a team of professional actors and directors bring to life four brand-new plays by playwrights from across the country\, chosen from a field of 258 submissions. There will be two performances (matinee and evening) of a new play each day. See all four over the course of one weekend\, June 12-15\, 2025. \nFree and Open to the public. \nThe Appliance Department – Seat Reservations Required
URL:https://venturamuseum.org/event/the-appliance-department-new-art-city-theatre-festival-25-a-new-works-playwrights-festival/
LOCATION:Museum of Ventura County Pavilion\, 100 E Main St\, Ventura\, CA\, 93001\, United States
CATEGORIES:@ the MVC
ATTACH;FMTTYPE=image/jpeg:https://venturamuseum.org/wp-content/uploads/2025/04/Museum_Square_Flat.Actural1600x1600_.jpg
END:VEVENT
BEGIN:VEVENT
DTSTART;TZID=America/Los_Angeles:20250614T140000
DTEND;TZID=America/Los_Angeles:20250614T190000
DTSTAMP:20260421T115944
CREATED:20250416T181322Z
LAST-MODIFIED:20250416T181322Z
UID:29423-1749909600-1749927600@venturamuseum.org
SUMMARY:Two-Man Rule—New Art City Theatre: Festival 25—A “New Works” playwright’s festival
DESCRIPTION:Captain Sandaker and First Lieutenant Wallace\, two-man crew of a remote missile silo\, hold the literal keys to the U.S. nuclear arsenal. Locked in an underground control room\, the two missileers try to find ways to keep the terror—and the boredom—of nuclear watch at bay while not losing their tether to reality. As personal secrets become nuclear ones\, Wallace and Sandaker must decide where their loyalties lie and face the fact that there are worse things than missiles buried underground. \nNew Art City Theatre\, Ventura’s newest professional theatre company\, presents their second annual festival of new works\, Festival ’25\, in the Martin V. And Martha K Smith Pavillion. Watch as a team of professional actors and directors bring to life four brand-new plays by playwrights from across the country\, chosen from a field of 258 submissions. There will be two performances (matinee and evening) of a new play each day. See all four over the course of one weekend\, June 12-15\, 2025. \nFree and Open to the public. \nTwo-Man Rule – Seat Reservations Required
URL:https://venturamuseum.org/event/two-man-rule-new-art-city-theatre-festival-25-a-new-works-playwrights-festival/
LOCATION:Museum of Ventura County Pavilion\, 100 E Main St\, Ventura\, CA\, 93001\, United States
CATEGORIES:@ the MVC
ATTACH;FMTTYPE=image/jpeg:https://venturamuseum.org/wp-content/uploads/2025/04/Museum_Square_Flat.Actural1600x1600_.jpg
END:VEVENT
BEGIN:VEVENT
DTSTART;TZID=America/Los_Angeles:20250613T140000
DTEND;TZID=America/Los_Angeles:20250613T190000
DTSTAMP:20260421T115944
CREATED:20250416T180716Z
LAST-MODIFIED:20250416T180716Z
UID:29420-1749823200-1749841200@venturamuseum.org
SUMMARY:Trouble Deaf Heaven—New Art City Theatre: Festival 25—A “New Works” playwright’s festival
DESCRIPTION:Trouble Deaf Heaven is a play about cruelty\, mercy\, and one woman’s struggle for autonomy over her body and future. Set in England in 1877\, this gothic nightmare follows a young woman named Mary Amelia\, a domestic worker employed by a doctor and his wife. As Mary learns more about the family she works for\, she uncovers startling secrets that lead her on a journey to take back her power at all cost. \n​CONTENT ALERT – Dark themes. Not suitable for younger audiences. For ages 16 & up. \nNew Art City Theatre\, Ventura’s newest professional theatre company\, presents their second annual festival of new works\, Festival ’25\, in the Martin V. And Martha K Smith Pavillion. Watch as a team of professional actors and directors bring to life four brand-new plays by playwrights from across the country\, chosen from a field of 258 submissions. There will be two performances (matinee and evening) of a new play each day. See all four over the course of one weekend\, June 12-15\, 2025. \nFree and Open to the public. \nTrouble Deaf Heaven – Seat Reservations Required
URL:https://venturamuseum.org/event/trouble-deaf-heaven-new-art-city-theatre-festival-25-a-new-works-playwrights-festival/
LOCATION:Museum of Ventura County Pavilion\, 100 E Main St\, Ventura\, CA\, 93001\, United States
CATEGORIES:@ the MVC
ATTACH;FMTTYPE=image/jpeg:https://venturamuseum.org/wp-content/uploads/2025/04/Museum_Square_Flat.Actural1600x1600_.jpg
END:VEVENT
BEGIN:VEVENT
DTSTART;TZID=America/Los_Angeles:20250612T140000
DTEND;TZID=America/Los_Angeles:20250612T190000
DTSTAMP:20260421T115944
CREATED:20250416T180308Z
LAST-MODIFIED:20250416T180837Z
UID:29414-1749736800-1749754800@venturamuseum.org
SUMMARY:Tribeca—New Art City Theatre: Festival 25—A “New Works” playwright’s festival
DESCRIPTION:Set against the cut-throat but well-heeled world of New York City’s private preschool admissions\, Tribeca is a satire that follows one couple as they vie to get their toddler into the most exclusive preschool in Manhattan. Gaining admittance means preserving a spot in America’s 1%. But is the high cost worth the even higher price of admission? \nNew Art City Theatre\, Ventura’s newest professional theatre company\, presents their second annual festival of new works\, Festival ’25\, in the Martin V. And Martha K Smith Pavillion. Watch as a team of professional actors and directors bring to life four brand-new plays by playwrights from across the country\, chosen from a field of 258 submissions. There will be two performances (matinee and evening) of a new play each day. See all four over the course of one weekend\, June 12-15\, 2025. \nFree and Open to the public. \nTribeca – Seat Reservations Required
URL:https://venturamuseum.org/event/tribeca-new-art-city-theatre-festival-25-a-new-works-playwrights-festival/
LOCATION:Museum of Ventura County Pavilion\, 100 E Main St\, Ventura\, CA\, 93001\, United States
CATEGORIES:@ the MVC
ATTACH;FMTTYPE=image/jpeg:https://venturamuseum.org/wp-content/uploads/2025/04/Museum_Square_Flat.Actural1600x1600_.jpg
END:VEVENT
BEGIN:VEVENT
DTSTART;TZID=America/Los_Angeles:20230225T150000
DTEND;TZID=America/Los_Angeles:20230225T163000
DTSTAMP:20260421T115944
CREATED:20230126T012308Z
LAST-MODIFIED:20230126T012339Z
UID:26507-1677337200-1677342600@venturamuseum.org
SUMMARY:Squatters\, Scandals\, and Surfing: A History of Rincon
DESCRIPTION:Join us at the Museum of Ventura County for a discussion with authors Stephen Bates and Vincent Burns. Their book\, Images of America: Rincon Point\, uncovers the history of this famous and storied surf spot. Admission is free. Copies of Images of America: Rincon Point by Stephen Bates and Vincent Burns will be available for purchase. \nRincon Point is renowned as the Queen of the Coast\, one of the premier surfing spots in the world\, but that is only a fragment of its rich history. Before the arrival of Europeans\, it was a Chumash village called Shuku. In the 19th century\, it was part of Rancho El Rincon\, whose owners included a rich but illiterate Californio rancher\, an English physician who made house calls by bicycle\, and a Chilean pharmacist who dispensed drugs out of an old ship’s cabin. It was the site of a scandalous love-triangle murder in the 1870s\, a rickety highway on stilts in the 1910s\, and a raunchy honky-tonk in the 1920s. Banditos\, nudists\, movie stars\, long-boarders–they have all shaped Rincon Point\, a place immortalized by novelists\, poets\, painters\, photographers\, and the Beach Boys.
URL:https://venturamuseum.org/event/squatters-scandals-and-surfing-a-history-of-rincon/
LOCATION:Museum of Ventura County Pavilion\, 100 E Main St\, Ventura\, CA\, 93001\, United States
CATEGORIES:@ the MVC
ATTACH;FMTTYPE=image/jpeg:https://venturamuseum.org/wp-content/uploads/2023/01/02-25-2023-History-of-Rincon.jpg
END:VEVENT
END:VCALENDAR