BEGIN:VCALENDAR
VERSION:2.0
PRODID:-//Museum of Ventura County - ECPv6.9.0//NONSGML v1.0//EN
CALSCALE:GREGORIAN
METHOD:PUBLISH
X-ORIGINAL-URL:https://venturamuseum.org
X-WR-CALDESC:Events for Museum of Ventura County
REFRESH-INTERVAL;VALUE=DURATION:PT1H
X-Robots-Tag:noindex
X-PUBLISHED-TTL:PT1H
BEGIN:VTIMEZONE
TZID:America/Los_Angeles
BEGIN:DAYLIGHT
TZOFFSETFROM:-0800
TZOFFSETTO:-0700
TZNAME:PDT
DTSTART:20260308T100000
END:DAYLIGHT
BEGIN:STANDARD
TZOFFSETFROM:-0700
TZOFFSETTO:-0800
TZNAME:PST
DTSTART:20261101T090000
END:STANDARD
END:VTIMEZONE
BEGIN:VEVENT
DTSTART;TZID=America/Los_Angeles:20260502T110000
DTEND;TZID=America/Los_Angeles:20260502T130000
DTSTAMP:20260420T183743
CREATED:20250915T161951Z
LAST-MODIFIED:20260415T195022Z
UID:29882-1777719600-1777726800@venturamuseum.org
SUMMARY:Ventura Chronicles: Unveiling the Archives! Now On Zoom
DESCRIPTION:Explore Ventura County’s rich past in this workshop designed for High School and College Students. \nWorking on a research paper or school project? Want to explore real historical documents and learn how to uncover Ventura County’s hidden stories? \nJoin us via Zoom for an introduction to the tools and treasures that can power your academic work. Through this workshop\, you will learn how to: \n\nAccess primary sources and documents\nExplore the Research Library’s Reading Room\nUnderstand and use aids to locate primary sources\nAdvance your research skills\n\nWhether you’re just starting out or already love digging into the past\, this workshop is designed to give you practical research skills and spark your curiosity about local history. \nFree and open to the public. Registration required. \nRegister Here
URL:https://venturamuseum.org/event/ventura-chronicles-unveiling-the-archives-2026/
CATEGORIES:Online Event
ATTACH;FMTTYPE=image/png:https://venturamuseum.org/wp-content/uploads/2025/09/05.02.2026-Square-Unveiling-the-Archives.png
END:VEVENT
BEGIN:VEVENT
DTSTART;TZID=America/Los_Angeles:20260503T140000
DTEND;TZID=America/Los_Angeles:20260503T160000
DTSTAMP:20260420T183743
CREATED:20260410T233118Z
LAST-MODIFIED:20260410T233901Z
UID:30584-1777816800-1777824000@venturamuseum.org
SUMMARY:History of Danza Mexica
DESCRIPTION:Join us for an afternoon exploring the history and meaning of Danza Mexica with Dr. Jennie Luna\, Professor of Chicano/a/x Studies at CSU Channel Islands. Learn how this traditional dance and ceremony connects to prayer and gratitude. \nDanza Tonantzin will perform at 2:15 PM\, followed by Dr. Luna’s presentation. Dr. Luna has been a danzante for over thirty years and presents an ethnographic perspective. \nThis free event is presented in partnership with the Port of Hueneme. We recommend registering in advance: Register Here \n  \n 
URL:https://venturamuseum.org/event/history-of-danza-mexica/
LOCATION:The Agriculture Museum\, 926 Railroad Ave\, Santa Paula\, 93060
CATEGORIES:@ the AG
ATTACH;FMTTYPE=image/jpeg:https://venturamuseum.org/wp-content/uploads/2026/04/Square-History-of-Danza-Mexica-.jpg
END:VEVENT
BEGIN:VEVENT
DTSTART;TZID=America/Los_Angeles:20260531T140000
DTEND;TZID=America/Los_Angeles:20260531T170000
DTSTAMP:20260420T183743
CREATED:20260410T235017Z
LAST-MODIFIED:20260410T235500Z
UID:30592-1780236000-1780246800@venturamuseum.org
SUMMARY:Community Roundtable: Indigenous Diaspora in VC
DESCRIPTION:Join us for a community roundtable moderated by Dr. Jennie Luna\, Professor of Chicano/a/x Studies at CSU Channel Islands. \nPanelists Carolina Gallardo\, Julio Alcala\, Luzma Espinosa\, and Maria Jimenez will share their work and perspectives\, exploring community\, activism\, and the Mexican and Mexican Indigenous experience in Ventura County. \nThis conversation creates space for dialogue and reflection on the Indigenous diaspora in our region. \nPresented in Spanish with English interpretation. \nThis free event is presented in partnership with the Port of Hueneme. We recommend registering in advance: Register Here
URL:https://venturamuseum.org/event/community-roundtable-indigenous-diaspora-in-vc/
LOCATION:The Agriculture Museum\, 926 Railroad Ave\, Santa Paula\, 93060
CATEGORIES:@ the AG
ATTACH;FMTTYPE=image/png:https://venturamuseum.org/wp-content/uploads/2026/04/Square-English-Community-Roundtable.png
END:VEVENT
END:VCALENDAR